BEGIN:VCALENDAR
VERSION:2.0
PRODID:-//Squarespace Inc/Squarespace 6//v6//EN
BEGIN:VEVENT
UID:5c9203088165f5b9be10913a@squarespace.com
DTSTAMP:20191202T002110Z
DTSTART:20200214T230000Z
DTEND:20200216T053000Z
SUMMARY:The Cyanotype and Beyond
GEO:-37.60632;145.279317
LOCATION:The Baldessin Press & Studio\, 90 Shaftesbury Ave\, St Andrews\, V
 ictoria\, 3761\, Australia
END:VEVENT
END:VCALENDAR
