BEGIN:VCALENDAR
VERSION:2.0
PRODID:-//Squarespace Inc/Squarespace 6//v6//EN
BEGIN:VEVENT
UID:5c91fee7f4e1fc4c5540e96e@squarespace.com
DTSTAMP:20200407T003343Z
DTSTART:20200327T230000Z
DTEND:20200329T053000Z
SUMMARY:Photopolymer Photogravure with Silvi Glattauer (CANCELLED)
GEO:-37.60632;145.279317
LOCATION:The Baldessin Press & Studio\, 90 Shaftesbury Ave\, St Andrews\, V
 ictoria\, 3761\, Australia
END:VEVENT
END:VCALENDAR
