BEGIN:VCALENDAR
VERSION:2.0
PRODID:-//Squarespace Inc/Squarespace 6//v6//EN
BEGIN:VEVENT
UID:5e407a295af4111d701e14c5@squarespace.com
DTSTAMP:20200709T082912Z
DTSTART:20200718T000000Z
DTEND:20200719T063000Z
SUMMARY:Photopolymer Photogravure with Silvi Glattauer ***POSTPONED***
GEO:-37.60632;145.279317
LOCATION:The Baldessin Press & Studio\, 90 Shaftesbury Ave\, St Andrews\, V
 ictoria\, 3761\, Australia
END:VEVENT
END:VCALENDAR
