BEGIN:VCALENDAR
VERSION:2.0
PRODID:-//Squarespace Inc/Squarespace 6//v6//EN
BEGIN:VEVENT
UID:5cb66c4f0d92979ac673cccb@squarespace.com
DTSTAMP:20190814T053158Z
DTSTART:20191018T230000Z
DTEND:20191020T053000Z
SUMMARY:The interactive artist eBook - Adobe InDesign 
GEO:-37.60632;145.279317
LOCATION:The Baldessin Press & Studio\, 90 Shaftesbury Ave\, St Andrews\, V
 ictoria\, 3761\, Australia
END:VEVENT
END:VCALENDAR
