BEGIN:VCALENDAR
VERSION:2.0
PRODID:-//Squarespace Inc/Squarespace 6//v6//EN
BEGIN:VEVENT
UID:5e963ee2b990fc5b6c4191a3@squarespace.com
DTSTAMP:20200709T082855Z
DTSTART:20200713T000000Z
DTEND:20200713T060000Z
SUMMARY:Drypoint  &amp\; Carborundum - Monday Workshop with Barbie Kjar ***
 POSTPONED***
END:VEVENT
END:VCALENDAR
