BEGIN:VCALENDAR
VERSION:2.0
PRODID:-//Squarespace Inc/Squarespace 6//v6//EN
BEGIN:VEVENT
UID:5f1914713238d76e22f97090@squarespace.com
DTSTAMP:20210120T035049Z
DTSTART:20210214T230000Z
DTEND:20210215T053000Z
SUMMARY:Drypoint  &amp\; Carborundum - One day Workshop with Barbie Kjar  *
 **Waiting List only***
END:VEVENT
END:VCALENDAR
