BEGIN:VCALENDAR
VERSION:2.0
PRODID:-//Squarespace Inc/Squarespace 6//v6//EN
BEGIN:VEVENT
UID:5eeefe35ca32b95668db3752@squarespace.com
DTSTAMP:20201207T003150Z
DTSTART:20201206T230000Z
DTEND:20201207T050000Z
SUMMARY:Experiments with Drawing -  with Barbie Kjar
END:VEVENT
END:VCALENDAR
