BEGIN:VCALENDAR
VERSION:2.0
PRODID:-//Squarespace Inc/Squarespace 6//v6//EN
BEGIN:VEVENT
UID:5bbab01bf4e1fc3d3bb546a7@squarespace.com
DTSTAMP:20190406T073217Z
DTSTART:20190405T230000Z
DTEND:20190414T035959Z
SUMMARY:BOOK ART - ART BOOK with Phil Ridgeway
GEO:-37.60632;145.279317
LOCATION:The Baldessin Press & Studio\, 90 Shaftesbury Avenue\, Saint Andre
 ws\, VIC\, 3761\, Australia
END:VEVENT
END:VCALENDAR
