BEGIN:VCALENDAR
VERSION:2.0
PRODID:-//Squarespace Inc/Squarespace 6//v6//EN
BEGIN:VEVENT
UID:5b1e27c42b6a28564d05b9af@squarespace.com
DTSTAMP:20181008T072405Z
DTSTART:20180803T140000Z
DTEND:20180804T210000Z
SUMMARY:Photopolymer Photogravure with Silvi Glattauer
GEO:-37.60632;145.279317
LOCATION:The Baldessin Press & Studio\, 90 Shaftesbury Ave\, St Andrews\, V
 ictoria\, 3761\, Australia
END:VEVENT
END:VCALENDAR
