BEGIN:VCALENDAR
VERSION:2.0
PRODID:-//Squarespace Inc/Squarespace 6//v6//EN
BEGIN:VEVENT
UID:5bbacd5af4e1fc3d3bb67a05@squarespace.com
DTSTAMP:20190320T091311Z
DTSTART:20190322T130000Z
DTEND:20190323T200000Z
SUMMARY:Photopolymer Photogravure with Silvi Glattauer
GEO:-37.60632;145.279317
LOCATION:The Baldessin Press & Studio\, 90 Shaftesbury Ave\, St Andrews\, V
 ictoria\, 3761\, Australia
END:VEVENT
END:VCALENDAR
