BEGIN:VCALENDAR
VERSION:2.0
PRODID:-//Squarespace Inc/Squarespace 6//v6//EN
BEGIN:VEVENT
UID:5b5546d70e2e72a170d76503@squarespace.com
DTSTAMP:20210120T035249Z
DTSTART:20210122T230000Z
DTEND:20210126T060000Z
SUMMARY:Photopolymer Photogravure - 4 Day Summer workshop with Silvi Glatta
 uer ***Waiting list only***
GEO:-37.60632;145.279317
LOCATION:The Baldessin Press & Studio\, 90 Shaftesbury Ave\, St Andrews\, V
 ictoria\, 3761\, Australia
END:VEVENT
END:VCALENDAR
