BEGIN:VCALENDAR
VERSION:2.0
PRODID:-//Squarespace Inc/Squarespace 6//v6//EN
BEGIN:VEVENT
UID:5b1df983f950b7e55e42b37d@squarespace.com
DTSTAMP:20190131T060430Z
DTSTART:20180721T140000Z
DTEND:20180722T210000Z
SUMMARY:Mokulito with Barbie Kjar
GEO:-37.60632;145.279317
LOCATION:The Baldessin Press & Studio\, 90 Shaftesbury Ave\, St Andrews\, A
 ustralia
END:VEVENT
END:VCALENDAR
