BEGIN:VCALENDAR
VERSION:2.0
PRODID:-//Squarespace Inc/Squarespace 6//v6//EN
BEGIN:VEVENT
UID:5c528c1c1ae6cf09616ff86c@squarespace.com
DTSTAMP:20191111T094940Z
DTSTART:20190607T233000Z
DTEND:20190609T063000Z
SUMMARY:Mokulito with Barbie Kjar
GEO:-37.60632;145.279317
LOCATION:The Baldessin Press & Studio\, 90 Shaftesbury Ave\, St Andrews\, A
 ustralia
END:VEVENT
END:VCALENDAR
