BEGIN:VCALENDAR
VERSION:2.0
PRODID:-//Squarespace Inc/Squarespace 6//v6//EN
BEGIN:VEVENT
UID:5b2b35072b6a28718c42ce52@squarespace.com
DTSTAMP:20180725T000637Z
DTSTART:20180623T120000Z
DTEND:20180624T060000Z
SUMMARY:Photopolymer Photogravure with Silvi Glattauer
GEO:-37.60632;145.279317
LOCATION:The Baldessin Press & Studio\, 90 Shaftesbury Ave\, St Andrews\, V
 ictoria\, 3761\, Australia
END:VEVENT
END:VCALENDAR
