BEGIN:VCALENDAR
VERSION:2.0
PRODID:-//Squarespace Inc/Squarespace 6//v6//EN
BEGIN:VEVENT
UID:5b1f67696d2a73641d11d3f6@squarespace.com
DTSTAMP:20190320T090138Z
DTSTART:20181012T230000Z
DTEND:20181014T060000Z
SUMMARY:Drawing on the Mind's Eye with Jock Clutterbuck
END:VEVENT
END:VCALENDAR
